BEGIN:VCALENDAR
VERSION:2.0
PRODID:-//Cookin’ with Kim - ECPv6.15.20//NONSGML v1.0//EN
CALSCALE:GREGORIAN
METHOD:PUBLISH
X-WR-CALNAME:Cookin’ with Kim
X-ORIGINAL-URL:https://cookinwithkim.com
X-WR-CALDESC:Events for Cookin’ with Kim
REFRESH-INTERVAL;VALUE=DURATION:PT1H
X-Robots-Tag:noindex
X-PUBLISHED-TTL:PT1H
BEGIN:VTIMEZONE
TZID:UTC
BEGIN:STANDARD
TZOFFSETFROM:+0000
TZOFFSETTO:+0000
TZNAME:UTC
DTSTART:20240101T000000
END:STANDARD
END:VTIMEZONE
BEGIN:VEVENT
DTSTART;TZID=UTC:20260605T130000
DTEND;TZID=UTC:20260605T143000
DTSTAMP:20260425T011604
CREATED:20260405T213355Z
LAST-MODIFIED:20260405T214555Z
UID:15802-1780664400-1780669800@cookinwithkim.com
SUMMARY:Dessert Trifle Fun
DESCRIPTION:
URL:https://cookinwithkim.com/event/dessert-trifle-fun/
CATEGORIES:6th-8th,9th-12th
END:VEVENT
BEGIN:VEVENT
DTSTART;TZID=UTC:20260605T173000
DTEND;TZID=UTC:20260605T190000
DTSTAMP:20260425T011604
CREATED:20260405T213503Z
LAST-MODIFIED:20260405T213534Z
UID:15804-1780680600-1780686000@cookinwithkim.com
SUMMARY:Trifle Fun with a Kick
DESCRIPTION:
URL:https://cookinwithkim.com/event/trifle-fun-with-a-kick/
CATEGORIES:Adult
END:VEVENT
BEGIN:VEVENT
DTSTART;TZID=UTC:20260608T100000
DTEND;TZID=UTC:20260608T120000
DTSTAMP:20260425T011604
CREATED:20260405T213736Z
LAST-MODIFIED:20260405T213736Z
UID:15806-1780912800-1780920000@cookinwithkim.com
SUMMARY:Breakfast on your Own
DESCRIPTION:
URL:https://cookinwithkim.com/event/breakfast-on-your-own/
CATEGORIES:K-2
END:VEVENT
BEGIN:VEVENT
DTSTART;TZID=UTC:20260609T100000
DTEND;TZID=UTC:20260609T123000
DTSTAMP:20260425T011604
CREATED:20260405T213837Z
LAST-MODIFIED:20260405T213837Z
UID:15808-1780999200-1781008200@cookinwithkim.com
SUMMARY:Breakfast Favorites
DESCRIPTION:
URL:https://cookinwithkim.com/event/breakfast-favorites/
CATEGORIES:3rd-5th
END:VEVENT
BEGIN:VEVENT
DTSTART;TZID=UTC:20250401T100000
DTEND;TZID=UTC:20250401T190000
DTSTAMP:20260425T011604
CREATED:20250424T002134Z
LAST-MODIFIED:20250424T002215Z
UID:14380-1743501600-1743534000@cookinwithkim.com
SUMMARY:OPEN TO SHOP
DESCRIPTION:Open to purchase Freezer Meals\, Granola Bites and More!
URL:https://cookinwithkim.com/event/open-to-shop/
LOCATION:Cookin’ With Kim\, 15818 Mueschke Rd.\, Cypress\, TX\, 77433\, United States
END:VEVENT
BEGIN:VEVENT
DTSTART;TZID=UTC:20260424T123000
DTEND;TZID=UTC:20260424T133000
DTSTAMP:20260425T011604
CREATED:20240903T162528Z
LAST-MODIFIED:20260406T032136Z
UID:12537-1777033800-1777037400@cookinwithkim.com
SUMMARY:Arista-55+ Demo and Meal Delivery
DESCRIPTION:Chef Kim will be cookin’ up a demo of one of her seasonal recipes! She’ll be handing out samples\, with a recipe card. Freezer Meal Pre orders delivery
URL:https://cookinwithkim.com/event/55-community-demo-alders-magnolia/
CATEGORIES:55+ Community Demos,Alders Magnolia
ATTACH;FMTTYPE=image/jpeg:https://cookinwithkim.com/wp-content/uploads/2024/09/Green-Yellow-Modern-Farming-Presentation-169.jpg
END:VEVENT
BEGIN:VEVENT
DTSTART;TZID=UTC:20250403T090000
DTEND;TZID=UTC:20250403T180000
DTSTAMP:20260425T011604
CREATED:20250424T002502Z
LAST-MODIFIED:20250424T002503Z
UID:14386-1743670800-1743703200@cookinwithkim.com
SUMMARY:OPEN TO SHOP
DESCRIPTION:Open to purchase Freezer Meals\, Granola Bites and More!
URL:https://cookinwithkim.com/event/open-to-shop-2-2/
LOCATION:Cookin’ With Kim\, 15818 Mueschke Rd.\, Cypress\, TX\, 77433\, United States
END:VEVENT
BEGIN:VEVENT
DTSTART;TZID=UTC:20260611T103000
DTEND;TZID=UTC:20260611T130000
DTSTAMP:20260425T011604
CREATED:20260405T214526Z
LAST-MODIFIED:20260405T214526Z
UID:15810-1781173800-1781182800@cookinwithkim.com
SUMMARY:Cookin' Brunch
DESCRIPTION:
URL:https://cookinwithkim.com/event/cookin-brunch/
CATEGORIES:6th-8th,9th-12th
END:VEVENT
BEGIN:VEVENT
DTSTART;TZID=UTC:20260612T100000
DTEND;TZID=UTC:20260612T123000
DTSTAMP:20260425T011604
CREATED:20260405T214919Z
LAST-MODIFIED:20260405T214919Z
UID:15813-1781258400-1781267400@cookinwithkim.com
SUMMARY:Toy Story Meal
DESCRIPTION:
URL:https://cookinwithkim.com/event/toy-story-meal/
CATEGORIES:3rd-5th
END:VEVENT
BEGIN:VEVENT
DTSTART;TZID=UTC:20250401T100000
DTEND;TZID=UTC:20250401T190000
DTSTAMP:20260425T011604
CREATED:20250424T002134Z
LAST-MODIFIED:20250424T002215Z
UID:14380-1743501600-1743534000@cookinwithkim.com
SUMMARY:OPEN TO SHOP
DESCRIPTION:Open to purchase Freezer Meals\, Granola Bites and More!
URL:https://cookinwithkim.com/event/open-to-shop/
LOCATION:Cookin’ With Kim\, 15818 Mueschke Rd.\, Cypress\, TX\, 77433\, United States
END:VEVENT
BEGIN:VEVENT
DTSTART;TZID=UTC:20250403T090000
DTEND;TZID=UTC:20250403T180000
DTSTAMP:20260425T011604
CREATED:20250424T002502Z
LAST-MODIFIED:20250424T002503Z
UID:14386-1743670800-1743703200@cookinwithkim.com
SUMMARY:OPEN TO SHOP
DESCRIPTION:Open to purchase Freezer Meals\, Granola Bites and More!
URL:https://cookinwithkim.com/event/open-to-shop-2-2/
LOCATION:Cookin’ With Kim\, 15818 Mueschke Rd.\, Cypress\, TX\, 77433\, United States
END:VEVENT
BEGIN:VEVENT
DTSTART;TZID=UTC:20260618T160000
DTEND;TZID=UTC:20260618T183000
DTSTAMP:20260425T011604
CREATED:20260405T215028Z
LAST-MODIFIED:20260405T215028Z
UID:15815-1781798400-1781807400@cookinwithkim.com
SUMMARY:Kids Favorites-Dinner for 4
DESCRIPTION:
URL:https://cookinwithkim.com/event/kids-favorites-dinner-for-4/
CATEGORIES:3rd-5th
END:VEVENT
BEGIN:VEVENT
DTSTART;TZID=UTC:20260619T170000
DTEND;TZID=UTC:20260619T200000
DTSTAMP:20260425T011604
CREATED:20260405T215144Z
LAST-MODIFIED:20260405T215144Z
UID:15817-1781888400-1781899200@cookinwithkim.com
SUMMARY:Farm to Table Cook and Dine
DESCRIPTION:
URL:https://cookinwithkim.com/event/farm-to-table-cook-and-dine/
CATEGORIES:9th-12th,Adult
END:VEVENT
BEGIN:VEVENT
DTSTART;TZID=UTC:20260622T100000
DTEND;TZID=UTC:20260622T123000
DTSTAMP:20260425T011604
CREATED:20260405T215353Z
LAST-MODIFIED:20260405T220115Z
UID:15819-1782122400-1782131400@cookinwithkim.com
SUMMARY:Jr Around the World-Italy
DESCRIPTION:Attend 1 or all 4
URL:https://cookinwithkim.com/event/around-the-world-italy/
CATEGORIES:3rd-5th
END:VEVENT
BEGIN:VEVENT
DTSTART;TZID=UTC:20260622T150000
DTEND;TZID=UTC:20260622T180000
DTSTAMP:20260425T011604
CREATED:20260405T215952Z
LAST-MODIFIED:20260405T215952Z
UID:15827-1782140400-1782151200@cookinwithkim.com
SUMMARY:Around the World-Italy
DESCRIPTION:Attend 1 or 4
URL:https://cookinwithkim.com/event/around-the-world-italy-2/
CATEGORIES:6th-8th,9th-12th
END:VEVENT
BEGIN:VEVENT
DTSTART;TZID=UTC:20260623T100000
DTEND;TZID=UTC:20260623T123000
DTSTAMP:20260425T011604
CREATED:20260405T215505Z
LAST-MODIFIED:20260405T220138Z
UID:15821-1782208800-1782217800@cookinwithkim.com
SUMMARY:Jr Around the World-Mexico
DESCRIPTION:Attend 1 or 4
URL:https://cookinwithkim.com/event/around-the-world-mexico/
CATEGORIES:3rd-5th
END:VEVENT
BEGIN:VEVENT
DTSTART;TZID=UTC:20250401T100000
DTEND;TZID=UTC:20250401T190000
DTSTAMP:20260425T011604
CREATED:20250424T002134Z
LAST-MODIFIED:20250424T002215Z
UID:14380-1743501600-1743534000@cookinwithkim.com
SUMMARY:OPEN TO SHOP
DESCRIPTION:Open to purchase Freezer Meals\, Granola Bites and More!
URL:https://cookinwithkim.com/event/open-to-shop/
LOCATION:Cookin’ With Kim\, 15818 Mueschke Rd.\, Cypress\, TX\, 77433\, United States
END:VEVENT
BEGIN:VEVENT
DTSTART;TZID=UTC:20260623T150000
DTEND;TZID=UTC:20260623T180000
DTSTAMP:20260425T011604
CREATED:20260405T220411Z
LAST-MODIFIED:20260405T220428Z
UID:15833-1782226800-1782237600@cookinwithkim.com
SUMMARY:Around the World-Mexico
DESCRIPTION:Attend 1 or 4
URL:https://cookinwithkim.com/event/around-the-world-mexico-2/
CATEGORIES:6th-8th,9th-12th
END:VEVENT
BEGIN:VEVENT
DTSTART;TZID=UTC:20260624T100000
DTEND;TZID=UTC:20260624T123000
DTSTAMP:20260425T011604
CREATED:20260405T215639Z
LAST-MODIFIED:20260405T220214Z
UID:15823-1782295200-1782304200@cookinwithkim.com
SUMMARY:Jr Around the World-Asia
DESCRIPTION:Attend 1 or 4
URL:https://cookinwithkim.com/event/around-the-world-asia/
CATEGORIES:3rd-5th
END:VEVENT
BEGIN:VEVENT
DTSTART;TZID=UTC:20260624T150000
DTEND;TZID=UTC:20260624T180000
DTSTAMP:20260425T011604
CREATED:20260405T220523Z
LAST-MODIFIED:20260405T220523Z
UID:15836-1782313200-1782324000@cookinwithkim.com
SUMMARY:Around the World-Asia
DESCRIPTION:Attend 1 or 4
URL:https://cookinwithkim.com/event/around-the-world-asia-2/
CATEGORIES:6th-8th,9th-12th
END:VEVENT
BEGIN:VEVENT
DTSTART;TZID=UTC:20250403T090000
DTEND;TZID=UTC:20250403T180000
DTSTAMP:20260425T011604
CREATED:20250424T002502Z
LAST-MODIFIED:20250424T002503Z
UID:14386-1743670800-1743703200@cookinwithkim.com
SUMMARY:OPEN TO SHOP
DESCRIPTION:Open to purchase Freezer Meals\, Granola Bites and More!
URL:https://cookinwithkim.com/event/open-to-shop-2-2/
LOCATION:Cookin’ With Kim\, 15818 Mueschke Rd.\, Cypress\, TX\, 77433\, United States
END:VEVENT
BEGIN:VEVENT
DTSTART;TZID=UTC:20260625T100000
DTEND;TZID=UTC:20260625T123000
DTSTAMP:20260425T011604
CREATED:20260405T215737Z
LAST-MODIFIED:20260405T220225Z
UID:15825-1782381600-1782390600@cookinwithkim.com
SUMMARY:Jr Around the World-Greece
DESCRIPTION:Attend 1 or all 4
URL:https://cookinwithkim.com/event/around-the-world-greece/
CATEGORIES:3rd-5th
END:VEVENT
BEGIN:VEVENT
DTSTART;TZID=UTC:20260625T150000
DTEND;TZID=UTC:20260625T180000
DTSTAMP:20260425T011604
CREATED:20260405T220620Z
LAST-MODIFIED:20260405T220620Z
UID:15838-1782399600-1782410400@cookinwithkim.com
SUMMARY:Around the World-Greece
DESCRIPTION:Attend 1 or 4
URL:https://cookinwithkim.com/event/around-the-world-greece-2/
CATEGORIES:6th-8th,9th-12th
END:VEVENT
BEGIN:VEVENT
DTSTART;TZID=UTC:20260626T173000
DTEND;TZID=UTC:20260626T200000
DTSTAMP:20260425T011604
CREATED:20260405T220736Z
LAST-MODIFIED:20260405T220753Z
UID:15840-1782495000-1782504000@cookinwithkim.com
SUMMARY:International Bubbles and Bites
DESCRIPTION:
URL:https://cookinwithkim.com/event/international-bubbles-and-bites/
CATEGORIES:Adult
END:VEVENT
BEGIN:VEVENT
DTSTART;TZID=UTC:20260629T100000
DTEND;TZID=UTC:20260629T130000
DTSTAMP:20260425T011604
CREATED:20260405T221336Z
LAST-MODIFIED:20260405T221336Z
UID:15847-1782727200-1782738000@cookinwithkim.com
SUMMARY:On my Own-College Cookin'
DESCRIPTION:
URL:https://cookinwithkim.com/event/on-my-own-college-cookin-2/
CATEGORIES:9th-12th
END:VEVENT
BEGIN:VEVENT
DTSTART;TZID=UTC:20260629T180000
DTEND;TZID=UTC:20260629T210000
DTSTAMP:20260425T011604
CREATED:20260405T221506Z
LAST-MODIFIED:20260405T221506Z
UID:15849-1782756000-1782766800@cookinwithkim.com
SUMMARY:On my Own- College Cookin
DESCRIPTION:
URL:https://cookinwithkim.com/event/on-my-own-college-cookin-3/
CATEGORIES:9th-12th
END:VEVENT
BEGIN:VEVENT
DTSTART;TZID=UTC:20250401T100000
DTEND;TZID=UTC:20250401T190000
DTSTAMP:20260425T011604
CREATED:20250424T002134Z
LAST-MODIFIED:20250424T002215Z
UID:14380-1743501600-1743534000@cookinwithkim.com
SUMMARY:OPEN TO SHOP
DESCRIPTION:Open to purchase Freezer Meals\, Granola Bites and More!
URL:https://cookinwithkim.com/event/open-to-shop/
LOCATION:Cookin’ With Kim\, 15818 Mueschke Rd.\, Cypress\, TX\, 77433\, United States
END:VEVENT
BEGIN:VEVENT
DTSTART;TZID=UTC:20260630T150000
DTEND;TZID=UTC:20260630T173000
DTSTAMP:20260425T011604
CREATED:20260405T221023Z
LAST-MODIFIED:20260405T221023Z
UID:15844-1782831600-1782840600@cookinwithkim.com
SUMMARY:Stars and Stripes Dinner for 4
DESCRIPTION:
URL:https://cookinwithkim.com/event/stars-and-stripes-dinner-for-4/
CATEGORIES:K-2
END:VEVENT
BEGIN:VEVENT
DTSTART;TZID=UTC:20260701T150000
DTEND;TZID=UTC:20260701T180000
DTSTAMP:20260425T011604
CREATED:20260406T020058Z
LAST-MODIFIED:20260406T020120Z
UID:15851-1782918000-1782928800@cookinwithkim.com
SUMMARY:All American Classics Take Home For 4
DESCRIPTION:
URL:https://cookinwithkim.com/event/all-american-classics/
CATEGORIES:3rd-5th
END:VEVENT
BEGIN:VEVENT
DTSTART;TZID=UTC:20250403T090000
DTEND;TZID=UTC:20250403T180000
DTSTAMP:20260425T011604
CREATED:20250424T002502Z
LAST-MODIFIED:20250424T002503Z
UID:14386-1743670800-1743703200@cookinwithkim.com
SUMMARY:OPEN TO SHOP
DESCRIPTION:Open to purchase Freezer Meals\, Granola Bites and More!
URL:https://cookinwithkim.com/event/open-to-shop-2-2/
LOCATION:Cookin’ With Kim\, 15818 Mueschke Rd.\, Cypress\, TX\, 77433\, United States
END:VEVENT
END:VCALENDAR