BEGIN:VCALENDAR
VERSION:2.0
PRODID:-//Cookin’ with Kim - ECPv6.15.20//NONSGML v1.0//EN
CALSCALE:GREGORIAN
METHOD:PUBLISH
X-WR-CALNAME:Cookin’ with Kim
X-ORIGINAL-URL:https://cookinwithkim.com
X-WR-CALDESC:Events for Cookin’ with Kim
REFRESH-INTERVAL;VALUE=DURATION:PT1H
X-Robots-Tag:noindex
X-PUBLISHED-TTL:PT1H
BEGIN:VTIMEZONE
TZID:UTC
BEGIN:STANDARD
TZOFFSETFROM:+0000
TZOFFSETTO:+0000
TZNAME:UTC
DTSTART:20230101T000000
END:STANDARD
END:VTIMEZONE
BEGIN:VEVENT
DTSTART;TZID=UTC:20260424T123000
DTEND;TZID=UTC:20260424T133000
DTSTAMP:20260425T041630
CREATED:20240903T162528Z
LAST-MODIFIED:20260406T032136Z
UID:12537-1777033800-1777037400@cookinwithkim.com
SUMMARY:Arista-55+ Demo and Meal Delivery
DESCRIPTION:Chef Kim will be cookin’ up a demo of one of her seasonal recipes! She’ll be handing out samples\, with a recipe card. Freezer Meal Pre orders delivery
URL:https://cookinwithkim.com/event/55-community-demo-alders-magnolia/
CATEGORIES:55+ Community Demos,Alders Magnolia
ATTACH;FMTTYPE=image/jpeg:https://cookinwithkim.com/wp-content/uploads/2024/09/Green-Yellow-Modern-Farming-Presentation-169.jpg
END:VEVENT
BEGIN:VEVENT
DTSTART;TZID=UTC:20260424T103000
DTEND;TZID=UTC:20260424T113000
DTSTAMP:20260425T041630
CREATED:20240903T162546Z
LAST-MODIFIED:20260406T031829Z
UID:12533-1777026600-1777030200@cookinwithkim.com
SUMMARY:Royal Oaks 55+ Demo and Meal Delivery
DESCRIPTION:Chef Kim will be cookin’ up a demo of one of her seasonal recipes! She’ll be handing out samples\, with a recipe card. Freezer Meal Pre orders delivery
URL:https://cookinwithkim.com/event/55-community-demo-royaloaks/
CATEGORIES:55+ Community Demos
ATTACH;FMTTYPE=image/jpeg:https://cookinwithkim.com/wp-content/uploads/2024/09/Green-Yellow-Modern-Farming-Presentation-169.jpg
END:VEVENT
BEGIN:VEVENT
DTSTART;TZID=UTC:20260424T123000
DTEND;TZID=UTC:20260424T133000
DTSTAMP:20260425T041630
CREATED:20240903T162528Z
LAST-MODIFIED:20260406T032136Z
UID:12537-1777033800-1777037400@cookinwithkim.com
SUMMARY:Arista-55+ Demo and Meal Delivery
DESCRIPTION:Chef Kim will be cookin’ up a demo of one of her seasonal recipes! She’ll be handing out samples\, with a recipe card. Freezer Meal Pre orders delivery
URL:https://cookinwithkim.com/event/55-community-demo-alders-magnolia/
CATEGORIES:55+ Community Demos,Alders Magnolia
ATTACH;FMTTYPE=image/jpeg:https://cookinwithkim.com/wp-content/uploads/2024/09/Green-Yellow-Modern-Farming-Presentation-169.jpg
END:VEVENT
BEGIN:VEVENT
DTSTART;TZID=UTC:20260424T103000
DTEND;TZID=UTC:20260424T113000
DTSTAMP:20260425T041630
CREATED:20240903T162546Z
LAST-MODIFIED:20260406T031829Z
UID:12533-1777026600-1777030200@cookinwithkim.com
SUMMARY:Royal Oaks 55+ Demo and Meal Delivery
DESCRIPTION:Chef Kim will be cookin’ up a demo of one of her seasonal recipes! She’ll be handing out samples\, with a recipe card. Freezer Meal Pre orders delivery
URL:https://cookinwithkim.com/event/55-community-demo-royaloaks/
CATEGORIES:55+ Community Demos
ATTACH;FMTTYPE=image/jpeg:https://cookinwithkim.com/wp-content/uploads/2024/09/Green-Yellow-Modern-Farming-Presentation-169.jpg
END:VEVENT
BEGIN:VEVENT
DTSTART;TZID=UTC:20250117T123000
DTEND;TZID=UTC:20250117T133000
DTSTAMP:20260425T041630
CREATED:20250103T190007Z
LAST-MODIFIED:20250103T190033Z
UID:13215-1737117000-1737120600@cookinwithkim.com
SUMMARY:55+ Community Demo - Ivy Point Cypress
DESCRIPTION:Chef Kim will be cookin’ up a demo of one of her seasonal recipes! She’ll be handing out samples\, with a recipe card. The recipe changes each month\, so you won’t want to miss out! Monthly Freezer Meal Menu and Delivery Schedule will also be available.
URL:https://cookinwithkim.com/event/55-community-demo-ivy-point-cypress-2/
LOCATION:Ivy Point Cypress\, 14928 Mueschke Road\, Cypress\, TX\, United States
CATEGORIES:55+ Community Demos,Ivy Point Cypress
ATTACH;FMTTYPE=image/jpeg:https://cookinwithkim.com/wp-content/uploads/2024/09/Green-Yellow-Modern-Farming-Presentation-169.jpg
END:VEVENT
BEGIN:VEVENT
DTSTART;TZID=UTC:20250117T100000
DTEND;TZID=UTC:20250117T110000
DTSTAMP:20260425T041630
CREATED:20250103T184906Z
LAST-MODIFIED:20250103T190725Z
UID:13211-1737108000-1737111600@cookinwithkim.com
SUMMARY:55+ Community Demo - Ivy Point Kingwood
DESCRIPTION:Chef Kim will be cookin’ up a demo of one of her seasonal recipes! She’ll be handing out samples\, with a recipe card. The recipe changes each month\, so you won’t want to miss out! Monthly Freezer Meal Menu and Delivery Schedule will also be available.
URL:https://cookinwithkim.com/event/55-community-demo-ivy-point-kingwood-2/
LOCATION:Ivy Point Kingwood\, 2302 Ladbrook Drive\, Kingwood\, 77339\, United States
CATEGORIES:55+ Community Demos,Ivy Point Kingwood
ATTACH;FMTTYPE=image/jpeg:https://cookinwithkim.com/wp-content/uploads/2024/09/Green-Yellow-Modern-Farming-Presentation-169.jpg
END:VEVENT
BEGIN:VEVENT
DTSTART;TZID=UTC:20250116T170000
DTEND;TZID=UTC:20250116T180000
DTSTAMP:20260425T041630
CREATED:20250103T190209Z
LAST-MODIFIED:20250103T192901Z
UID:13217-1737046800-1737050400@cookinwithkim.com
SUMMARY:55+ Community Demo - Cadence Creek Gosling
DESCRIPTION:Chef Kim will be cookin’ up a demo of one of her seasonal recipes! She’ll be handing out samples\, with a recipe card. The recipe changes each month\, so you won’t want to miss out! Monthly Freezer Meal Menu and Delivery Schedule will also be available.
URL:https://cookinwithkim.com/event/55-community-demo-cadence-creek-gosling-2/
LOCATION:Cadence Creek Gosling\, 21901 Gosling Road\, Spring\, TX\, 77388\, United States
CATEGORIES:55+ Community Demos,Cadence Creek Gosling
ATTACH;FMTTYPE=image/jpeg:https://cookinwithkim.com/wp-content/uploads/2024/09/Green-Yellow-Modern-Farming-Presentation-169.jpg
END:VEVENT
BEGIN:VEVENT
DTSTART;TZID=UTC:20250115T160000
DTEND;TZID=UTC:20250115T170000
DTSTAMP:20260425T041630
CREATED:20250103T184525Z
LAST-MODIFIED:20250103T185912Z
UID:13209-1736956800-1736960400@cookinwithkim.com
SUMMARY:55+ Community Demo - Cadence Creek Towne Lake Mix and Mingle
DESCRIPTION:Chef Kim will be cookin’ up a demo of one of her seasonal recipes! She’ll be handing out samples\, with a recipe card. The recipe changes each month\, so you won’t want to miss out! Monthly Freezer Meal Menu and Delivery Schedule will also be available.
URL:https://cookinwithkim.com/event/55-community-demo-cadence-creek-towne-lake-2/
LOCATION:Cadence Creek Towne Lake\, 11411 Greenhouse Road\, Cypress\, 77433\, United States
CATEGORIES:55+ Community Demos,Cadence Creek Towne Lake
ATTACH;FMTTYPE=image/jpeg:https://cookinwithkim.com/wp-content/uploads/2024/09/Green-Yellow-Modern-Farming-Presentation-169.jpg
END:VEVENT
BEGIN:VEVENT
DTSTART;TZID=UTC:20250115T103000
DTEND;TZID=UTC:20250115T113000
DTSTAMP:20260425T041630
CREATED:20250103T192207Z
LAST-MODIFIED:20250103T192207Z
UID:13231-1736937000-1736940600@cookinwithkim.com
SUMMARY:*55+ Community Demo - Ivy Point Klein
DESCRIPTION:Chef Kim will be cookin’ up a demo of one of her seasonal recipes! She’ll be handing out samples\, with a recipe card. The recipe changes each month\, so you won’t want to miss out! Monthly Freezer Meal Menu and Delivery Schedule will also be available.
URL:https://cookinwithkim.com/event/55-community-demo-ivy-point-klein-6/
LOCATION:Ivy Point Klein\, 19310 TC Jester Blvd\, Spring\, TX\, 77379\, United States
CATEGORIES:55+ Community Demos,Ivy Point Klein
ATTACH;FMTTYPE=image/jpeg:https://cookinwithkim.com/wp-content/uploads/2024/09/Green-Yellow-Modern-Farming-Presentation-169.jpg
END:VEVENT
BEGIN:VEVENT
DTSTART;TZID=UTC:20250114T120000
DTEND;TZID=UTC:20250114T120000
DTSTAMP:20260425T041630
CREATED:20250103T193435Z
LAST-MODIFIED:20250103T193435Z
UID:13239-1736856000-1736856000@cookinwithkim.com
SUMMARY:*55+ Community Demo - Alders Magnolia
DESCRIPTION:Chef Kim will be cookin’ up a demo of one of her seasonal recipes! She’ll be handing out samples\, with a recipe card. The recipe changes each month\, so you won’t want to miss out! Monthly Freezer Meal Menu and Delivery Schedule will also be available.
URL:https://cookinwithkim.com/event/55-community-demo-alders-magnolia-5/
LOCATION:Alders Magnolia\, 33118 Magnolia Circle\, Magnolia\, 77354\, United States
CATEGORIES:55+ Community Demos,Ivy Point Kingwood
ATTACH;FMTTYPE=image/jpeg:https://cookinwithkim.com/wp-content/uploads/2024/09/Green-Yellow-Modern-Farming-Presentation-169.jpg
END:VEVENT
BEGIN:VEVENT
DTSTART;TZID=UTC:20260424T103000
DTEND;TZID=UTC:20260424T113000
DTSTAMP:20260425T041630
CREATED:20240903T162546Z
LAST-MODIFIED:20260406T031829Z
UID:12533-1777026600-1777030200@cookinwithkim.com
SUMMARY:Royal Oaks 55+ Demo and Meal Delivery
DESCRIPTION:Chef Kim will be cookin’ up a demo of one of her seasonal recipes! She’ll be handing out samples\, with a recipe card. Freezer Meal Pre orders delivery
URL:https://cookinwithkim.com/event/55-community-demo-royaloaks/
CATEGORIES:55+ Community Demos
ATTACH;FMTTYPE=image/jpeg:https://cookinwithkim.com/wp-content/uploads/2024/09/Green-Yellow-Modern-Farming-Presentation-169.jpg
END:VEVENT
BEGIN:VEVENT
DTSTART;TZID=UTC:20260417T100000
DTEND;TZID=UTC:20260417T110000
DTSTAMP:20260425T041630
CREATED:20240903T161642Z
LAST-MODIFIED:20260406T030921Z
UID:12556-1776420000-1776423600@cookinwithkim.com
SUMMARY:Ivy Point Kingwood 55+ Demo and Meal Delivery
DESCRIPTION:Chef Kim will be cookin’ up a demo of one of her seasonal recipes! She’ll be handing out samples\, with a recipe card. Freezer Meal Pre orders delivery
URL:https://cookinwithkim.com/event/55-community-demo-ivy-point-kingwood/
LOCATION:Ivy Point Kingwood\, 2302 Ladbrook Drive\, Kingwood\, 77339\, United States
CATEGORIES:55+ Community Demos,Ivy Point Kingwood
ATTACH;FMTTYPE=image/jpeg:https://cookinwithkim.com/wp-content/uploads/2024/09/Green-Yellow-Modern-Farming-Presentation-169.jpg
END:VEVENT
BEGIN:VEVENT
DTSTART;TZID=UTC:20241214T130000
DTEND;TZID=UTC:20241214T150000
DTSTAMP:20260425T041630
CREATED:20241203T140930Z
LAST-MODIFIED:20241203T141107Z
UID:13050-1734181200-1734188400@cookinwithkim.com
SUMMARY:Holidays Around the World
DESCRIPTION:REGISTER HERE FOR FAMILY FUN\nSaturday\, December 14th\n1:00-3:00pm\n$25 a person Ages 5+\nWe will gather and share traditions of Holiday Celebrations from Around the World!\nExcited to explore several countries talking about traditions\, either tasting or preparing foods and much more! \nAfter we gather as a group we will then break down into smaller groups to move from country to country! \n  \nFAMILY FUN…ALL AGES WELCOME! Attend solo or as a family!\nMix it up with kids and adults\, all adults\, solo kids ages 11+\nYouth under the age of 10 must be accompanied by an adult\, 11+ may attend alone.\n  \n 
URL:https://cookinwithkim.com/event/holidays-around-the-world/
LOCATION:Cookin’ With Kim\, 15818 Mueschke Rd.\, Cypress\, TX\, 77433\, United States
ATTACH;FMTTYPE=image/jpeg:https://cookinwithkim.com/wp-content/uploads/2024/09/IMG_1791.jpg
END:VEVENT
BEGIN:VEVENT
DTSTART;TZID=UTC:20260408T163000
DTEND;TZID=UTC:20260408T173000
DTSTAMP:20260425T041630
CREATED:20240903T162442Z
LAST-MODIFIED:20260406T030555Z
UID:12566-1775665800-1775669400@cookinwithkim.com
SUMMARY:Cadence Creek Towne Lake 55+ Demo and Meal Delivery
DESCRIPTION:Chef Kim will be cookin’ up a demo of one of her seasonal recipes! She’ll be handing out samples\, with a recipe card. Freezer Meal Pre orders delivery
URL:https://cookinwithkim.com/event/55-community-demo-cadence-creek-towne-lake/
LOCATION:Cadence Creek Towne Lake\, 11411 Greenhouse Road\, Cypress\, 77433\, United States
CATEGORIES:55+ Community Demos,Cadence Creek Towne Lake
ATTACH;FMTTYPE=image/jpeg:https://cookinwithkim.com/wp-content/uploads/2024/09/Green-Yellow-Modern-Farming-Presentation-169.jpg
END:VEVENT
BEGIN:VEVENT
DTSTART;TZID=UTC:20240911T103000
DTEND;TZID=UTC:20240911T113000
DTSTAMP:20260425T041630
CREATED:20240903T162509Z
LAST-MODIFIED:20240903T165502Z
UID:12563-1726050600-1726054200@cookinwithkim.com
SUMMARY:55+ Community Demo - Ivy Point Klein
DESCRIPTION:Chef Kim will be cookin’ up a demo of one of her seasonal recipes! She’ll be handing out samples\, with a recipe card. The recipe changes each month\, so you won’t want to miss out! Monthly Freezer Meal Menu and Delivery Schedule will also be available.
URL:https://cookinwithkim.com/event/55-community-demo-ivy-point-klein/
LOCATION:Ivy Point Klein\, 19310 TC Jester Blvd\, Spring\, TX\, 77379\, United States
CATEGORIES:55+ Community Demos,Ivy Point Klein
ATTACH;FMTTYPE=image/jpeg:https://cookinwithkim.com/wp-content/uploads/2024/09/Green-Yellow-Modern-Farming-Presentation-169.jpg
END:VEVENT
BEGIN:VEVENT
DTSTART;TZID=UTC:20260424T123000
DTEND;TZID=UTC:20260424T133000
DTSTAMP:20260425T041630
CREATED:20240903T162528Z
LAST-MODIFIED:20260406T032136Z
UID:12537-1777033800-1777037400@cookinwithkim.com
SUMMARY:Arista-55+ Demo and Meal Delivery
DESCRIPTION:Chef Kim will be cookin’ up a demo of one of her seasonal recipes! She’ll be handing out samples\, with a recipe card. Freezer Meal Pre orders delivery
URL:https://cookinwithkim.com/event/55-community-demo-alders-magnolia/
CATEGORIES:55+ Community Demos,Alders Magnolia
ATTACH;FMTTYPE=image/jpeg:https://cookinwithkim.com/wp-content/uploads/2024/09/Green-Yellow-Modern-Farming-Presentation-169.jpg
END:VEVENT
BEGIN:VEVENT
DTSTART;TZID=UTC:20260424T103000
DTEND;TZID=UTC:20260424T113000
DTSTAMP:20260425T041630
CREATED:20240903T162546Z
LAST-MODIFIED:20260406T031829Z
UID:12533-1777026600-1777030200@cookinwithkim.com
SUMMARY:Royal Oaks 55+ Demo and Meal Delivery
DESCRIPTION:Chef Kim will be cookin’ up a demo of one of her seasonal recipes! She’ll be handing out samples\, with a recipe card. Freezer Meal Pre orders delivery
URL:https://cookinwithkim.com/event/55-community-demo-royaloaks/
CATEGORIES:55+ Community Demos
ATTACH;FMTTYPE=image/jpeg:https://cookinwithkim.com/wp-content/uploads/2024/09/Green-Yellow-Modern-Farming-Presentation-169.jpg
END:VEVENT
BEGIN:VEVENT
DTSTART;TZID=UTC:20241204T090000
DTEND;TZID=UTC:20241204T110000
DTSTAMP:20260425T041630
CREATED:20240912T135201Z
LAST-MODIFIED:20240912T135201Z
UID:12731-1733302800-1733310000@cookinwithkim.com
SUMMARY:Homeschool Adventures in the Kitchen and Classroom - Trains
DESCRIPTION:REGISTER HERE\nK-2nd \nChef Kim will once again be working with Annette\, an amazing retired elementary teacher for FUN themed classes for your young homeschool students this school year!  \nThe kids will enjoy a fun themed learning experience creating things both in and out of the kitchen!  They will spend part of the time with Annette reading stories\, doing experiments\, crafting\, fun learning and part of the time in the kitchen with Chef Kim creating fun recipes! \n  \nSeptember 4th        9-11:00am     BACK to SCHOOL \nSeptember 18th      9-11:00am     SUN and MOON \nOctober 2nd            9-11:00am     APPLES \nOctober 16th.          9-11:00am     HALLOWEEN \nNovember 6th        9-11:00am     OWLS \nNovember 20th     9-11:00am     THANKSGIVING \nDecember 4th        9-11:00am     TRAINS \nDecember 18th      9-11:00am     CELEBRATIONS AROUND the WORLD \n  \nClass size: Minimum 4 Maximum 16 junior chefs \nAprons are provided for class as well as recipes for each registrant to take home with creations \nPRIVATE EVENTS for ADULTS and YOUTH AVAILABLE Contact Chef Kim.
URL:https://cookinwithkim.com/event/homeschool-adventures-in-the-kitchen-and-classroom-trains/
LOCATION:Cookin’ With Kim\, 15818 Mueschke Rd.\, Cypress\, TX\, 77433\, United States
CATEGORIES:Homeschool Adventures
ATTACH;FMTTYPE=image/jpeg:https://cookinwithkim.com/wp-content/uploads/2024/08/3.jpg
END:VEVENT
BEGIN:VEVENT
DTSTART;TZID=UTC:20260417T100000
DTEND;TZID=UTC:20260417T110000
DTSTAMP:20260425T041630
CREATED:20240903T161642Z
LAST-MODIFIED:20260406T030921Z
UID:12556-1776420000-1776423600@cookinwithkim.com
SUMMARY:Ivy Point Kingwood 55+ Demo and Meal Delivery
DESCRIPTION:Chef Kim will be cookin’ up a demo of one of her seasonal recipes! She’ll be handing out samples\, with a recipe card. Freezer Meal Pre orders delivery
URL:https://cookinwithkim.com/event/55-community-demo-ivy-point-kingwood/
LOCATION:Ivy Point Kingwood\, 2302 Ladbrook Drive\, Kingwood\, 77339\, United States
CATEGORIES:55+ Community Demos,Ivy Point Kingwood
ATTACH;FMTTYPE=image/jpeg:https://cookinwithkim.com/wp-content/uploads/2024/09/Green-Yellow-Modern-Farming-Presentation-169.jpg
END:VEVENT
BEGIN:VEVENT
DTSTART;TZID=UTC:20260408T163000
DTEND;TZID=UTC:20260408T173000
DTSTAMP:20260425T041630
CREATED:20240903T162442Z
LAST-MODIFIED:20260406T030555Z
UID:12566-1775665800-1775669400@cookinwithkim.com
SUMMARY:Cadence Creek Towne Lake 55+ Demo and Meal Delivery
DESCRIPTION:Chef Kim will be cookin’ up a demo of one of her seasonal recipes! She’ll be handing out samples\, with a recipe card. Freezer Meal Pre orders delivery
URL:https://cookinwithkim.com/event/55-community-demo-cadence-creek-towne-lake/
LOCATION:Cadence Creek Towne Lake\, 11411 Greenhouse Road\, Cypress\, 77433\, United States
CATEGORIES:55+ Community Demos,Cadence Creek Towne Lake
ATTACH;FMTTYPE=image/jpeg:https://cookinwithkim.com/wp-content/uploads/2024/09/Green-Yellow-Modern-Farming-Presentation-169.jpg
END:VEVENT
BEGIN:VEVENT
DTSTART;TZID=UTC:20240911T103000
DTEND;TZID=UTC:20240911T113000
DTSTAMP:20260425T041630
CREATED:20240903T162509Z
LAST-MODIFIED:20240903T165502Z
UID:12563-1726050600-1726054200@cookinwithkim.com
SUMMARY:55+ Community Demo - Ivy Point Klein
DESCRIPTION:Chef Kim will be cookin’ up a demo of one of her seasonal recipes! She’ll be handing out samples\, with a recipe card. The recipe changes each month\, so you won’t want to miss out! Monthly Freezer Meal Menu and Delivery Schedule will also be available.
URL:https://cookinwithkim.com/event/55-community-demo-ivy-point-klein/
LOCATION:Ivy Point Klein\, 19310 TC Jester Blvd\, Spring\, TX\, 77379\, United States
CATEGORIES:55+ Community Demos,Ivy Point Klein
ATTACH;FMTTYPE=image/jpeg:https://cookinwithkim.com/wp-content/uploads/2024/09/Green-Yellow-Modern-Farming-Presentation-169.jpg
END:VEVENT
BEGIN:VEVENT
DTSTART;TZID=UTC:20260424T123000
DTEND;TZID=UTC:20260424T133000
DTSTAMP:20260425T041630
CREATED:20240903T162528Z
LAST-MODIFIED:20260406T032136Z
UID:12537-1777033800-1777037400@cookinwithkim.com
SUMMARY:Arista-55+ Demo and Meal Delivery
DESCRIPTION:Chef Kim will be cookin’ up a demo of one of her seasonal recipes! She’ll be handing out samples\, with a recipe card. Freezer Meal Pre orders delivery
URL:https://cookinwithkim.com/event/55-community-demo-alders-magnolia/
CATEGORIES:55+ Community Demos,Alders Magnolia
ATTACH;FMTTYPE=image/jpeg:https://cookinwithkim.com/wp-content/uploads/2024/09/Green-Yellow-Modern-Farming-Presentation-169.jpg
END:VEVENT
BEGIN:VEVENT
DTSTART;TZID=UTC:20241113T093000
DTEND;TZID=UTC:20241113T093000
DTSTAMP:20260425T041630
CREATED:20240912T140159Z
LAST-MODIFIED:20240912T140159Z
UID:12743-1731490200-1731490200@cookinwithkim.com
SUMMARY:Mommy and Me - Celebrations Around the World
DESCRIPTION:REGISTER HERE\nAdult and Children 5 and under  \n(1 adult per child) \nChef Kim will be opening her kitchen throughout the year for FUN “Mommy and Me” Camps  \nWe will gather for each class and read a story\, taste some foods\, create food art\, and prepare a recipe to enjoy during class or to take home! \nClasses will run 60-90 minutes \n  \nFriday\, September 13th…9:30am…CUTIE PIE \nWednesday\, September 25th…9:30am…SUN and MOON \nFriday\, October 11th…9:30am…APPLES \nWednesday\, October 23rd…9:30am…HALLOWEEN \nFriday\, November 8th…9:30am…THANKSGIVING \nFriday\, December 13th…9:30am…CELEBRATIONS AROUND the WORLD \n  \nAprons are provided for class as well as recipes for each registrant to take home with creations \nPRIVATE EVENTS for ADULTS and YOUTH AVAILABLE Contact Chef Kim.
URL:https://cookinwithkim.com/event/mommy-and-me-celebrations/
LOCATION:Cookin’ With Kim\, 15818 Mueschke Rd.\, Cypress\, TX\, 77433\, United States
CATEGORIES:Mommy and Me
ATTACH;FMTTYPE=image/jpeg:https://cookinwithkim.com/wp-content/uploads/2024/08/2.jpg
END:VEVENT
BEGIN:VEVENT
DTSTART;TZID=UTC:20241108T093000
DTEND;TZID=UTC:20241108T110000
DTSTAMP:20260425T041630
CREATED:20240912T140059Z
LAST-MODIFIED:20240912T140059Z
UID:12741-1731058200-1731063600@cookinwithkim.com
SUMMARY:Mommy and Me - Thanksgiving
DESCRIPTION:REGISTER HERE\nAdult and Children 5 and under  \n(1 adult per child) \nChef Kim will be opening her kitchen throughout the year for FUN “Mommy and Me” Camps  \nWe will gather for each class and read a story\, taste some foods\, create food art\, and prepare a recipe to enjoy during class or to take home! \nClasses will run 60-90 minutes \n  \nFriday\, September 13th…9:30am…CUTIE PIE \nWednesday\, September 25th…9:30am…SUN and MOON \nFriday\, October 11th…9:30am…APPLES \nWednesday\, October 23rd…9:30am…HALLOWEEN \nFriday\, November 8th…9:30am…THANKSGIVING \nFriday\, December 13th…9:30am…CELEBRATIONS AROUND the WORLD \n  \nAprons are provided for class as well as recipes for each registrant to take home with creations \nPRIVATE EVENTS for ADULTS and YOUTH AVAILABLE Contact Chef Kim.
URL:https://cookinwithkim.com/event/mommy-and-me-thanksgiving/
LOCATION:Cookin’ With Kim\, 15818 Mueschke Rd.\, Cypress\, TX\, 77433\, United States
CATEGORIES:Mommy and Me
ATTACH;FMTTYPE=image/jpeg:https://cookinwithkim.com/wp-content/uploads/2024/08/2.jpg
END:VEVENT
BEGIN:VEVENT
DTSTART;TZID=UTC:20260424T103000
DTEND;TZID=UTC:20260424T113000
DTSTAMP:20260425T041630
CREATED:20240903T162546Z
LAST-MODIFIED:20260406T031829Z
UID:12533-1777026600-1777030200@cookinwithkim.com
SUMMARY:Royal Oaks 55+ Demo and Meal Delivery
DESCRIPTION:Chef Kim will be cookin’ up a demo of one of her seasonal recipes! She’ll be handing out samples\, with a recipe card. Freezer Meal Pre orders delivery
URL:https://cookinwithkim.com/event/55-community-demo-royaloaks/
CATEGORIES:55+ Community Demos
ATTACH;FMTTYPE=image/jpeg:https://cookinwithkim.com/wp-content/uploads/2024/09/Green-Yellow-Modern-Farming-Presentation-169.jpg
END:VEVENT
BEGIN:VEVENT
DTSTART;TZID=UTC:20241120T090000
DTEND;TZID=UTC:20241120T090000
DTSTAMP:20260425T041630
CREATED:20240912T135038Z
LAST-MODIFIED:20240912T135038Z
UID:12729-1732093200-1732093200@cookinwithkim.com
SUMMARY:Homeschool Adventures in the Kitchen and Classroom - Thanksgiving
DESCRIPTION:REGISTER HERE\nK-2nd \nChef Kim will once again be working with Annette\, an amazing retired elementary teacher for FUN themed classes for your young homeschool students this school year!  \nThe kids will enjoy a fun themed learning experience creating things both in and out of the kitchen!  They will spend part of the time with Annette reading stories\, doing experiments\, crafting\, fun learning and part of the time in the kitchen with Chef Kim creating fun recipes! \n  \nSeptember 4th        9-11:00am     BACK to SCHOOL \nSeptember 18th      9-11:00am     SUN and MOON \nOctober 2nd            9-11:00am     APPLES \nOctober 16th.          9-11:00am     HALLOWEEN \nNovember 6th        9-11:00am     OWLS \nNovember 20th     9-11:00am     THANKSGIVING \nDecember 4th        9-11:00am     TRAINS \nDecember 18th      9-11:00am     CELEBRATIONS AROUND the WORLD \n  \nClass size: Minimum 4 Maximum 16 junior chefs \nAprons are provided for class as well as recipes for each registrant to take home with creations \nPRIVATE EVENTS for ADULTS and YOUTH AVAILABLE Contact Chef Kim.
URL:https://cookinwithkim.com/event/homeschool-adventures-in-the-kitchen-and-classroom-thanksgiving/
LOCATION:Cookin’ With Kim\, 15818 Mueschke Rd.\, Cypress\, TX\, 77433\, United States
CATEGORIES:Homeschool Adventures
ATTACH;FMTTYPE=image/jpeg:https://cookinwithkim.com/wp-content/uploads/2024/08/3.jpg
END:VEVENT
BEGIN:VEVENT
DTSTART;TZID=UTC:20241106T090000
DTEND;TZID=UTC:20241106T110000
DTSTAMP:20260425T041630
CREATED:20240912T134758Z
LAST-MODIFIED:20240912T134758Z
UID:12726-1730883600-1730890800@cookinwithkim.com
SUMMARY:Homeschool Adventures in the Kitchen and Classroom - Owls
DESCRIPTION:REGISTER HERE\nK-2nd \nChef Kim will once again be working with Annette\, an amazing retired elementary teacher for FUN themed classes for your young homeschool students this school year!  \nThe kids will enjoy a fun themed learning experience creating things both in and out of the kitchen!  They will spend part of the time with Annette reading stories\, doing experiments\, crafting\, fun learning and part of the time in the kitchen with Chef Kim creating fun recipes! \n  \nSeptember 4th        9-11:00am     BACK to SCHOOL \nSeptember 18th      9-11:00am     SUN and MOON \nOctober 2nd            9-11:00am     APPLES \nOctober 16th.          9-11:00am     HALLOWEEN \nNovember 6th        9-11:00am     OWLS \nNovember 20th     9-11:00am     THANKSGIVING \nDecember 4th        9-11:00am     TRAINS \nDecember 18th      9-11:00am     CELEBRATIONS AROUND the WORLD \n  \nClass size: Minimum 4 Maximum 16 junior chefs \nAprons are provided for class as well as recipes for each registrant to take home with creations \nPRIVATE EVENTS for ADULTS and YOUTH AVAILABLE Contact Chef Kim.
URL:https://cookinwithkim.com/event/homeschool-adventures-in-the-kitchen-and-classroom-owls/
LOCATION:Cookin’ With Kim\, 15818 Mueschke Rd.\, Cypress\, TX\, 77433\, United States
CATEGORIES:Homeschool Adventures
ATTACH;FMTTYPE=image/jpeg:https://cookinwithkim.com/wp-content/uploads/2024/08/3.jpg
END:VEVENT
BEGIN:VEVENT
DTSTART;TZID=UTC:20241023T093000
DTEND;TZID=UTC:20241023T110000
DTSTAMP:20260425T041630
CREATED:20240912T135923Z
LAST-MODIFIED:20240912T135923Z
UID:12739-1729675800-1729681200@cookinwithkim.com
SUMMARY:Mommy and Me - Halloween
DESCRIPTION:REGISTER HERE\nAdult and Children 5 and under  \n(1 adult per child) \nChef Kim will be opening her kitchen throughout the year for FUN “Mommy and Me” Camps  \nWe will gather for each class and read a story\, taste some foods\, create food art\, and prepare a recipe to enjoy during class or to take home! \nClasses will run 60-90 minutes \n  \nFriday\, September 13th…9:30am…CUTIE PIE \nWednesday\, September 25th…9:30am…SUN and MOON \nFriday\, October 11th…9:30am…APPLES \nWednesday\, October 23rd…9:30am…HALLOWEEN \nFriday\, November 8th…9:30am…THANKSGIVING \nFriday\, December 13th…9:30am…CELEBRATIONS AROUND the WORLD \n  \nAprons are provided for class as well as recipes for each registrant to take home with creations \nPRIVATE EVENTS for ADULTS and YOUTH AVAILABLE Contact Chef Kim.
URL:https://cookinwithkim.com/event/mommy-and-me-halloween/
LOCATION:Cookin’ With Kim\, 15818 Mueschke Rd.\, Cypress\, TX\, 77433\, United States
CATEGORIES:Mommy and Me
ATTACH;FMTTYPE=image/jpeg:https://cookinwithkim.com/wp-content/uploads/2024/08/2.jpg
END:VEVENT
BEGIN:VEVENT
DTSTART;TZID=UTC:20260417T100000
DTEND;TZID=UTC:20260417T110000
DTSTAMP:20260425T041630
CREATED:20240903T161642Z
LAST-MODIFIED:20260406T030921Z
UID:12556-1776420000-1776423600@cookinwithkim.com
SUMMARY:Ivy Point Kingwood 55+ Demo and Meal Delivery
DESCRIPTION:Chef Kim will be cookin’ up a demo of one of her seasonal recipes! She’ll be handing out samples\, with a recipe card. Freezer Meal Pre orders delivery
URL:https://cookinwithkim.com/event/55-community-demo-ivy-point-kingwood/
LOCATION:Ivy Point Kingwood\, 2302 Ladbrook Drive\, Kingwood\, 77339\, United States
CATEGORIES:55+ Community Demos,Ivy Point Kingwood
ATTACH;FMTTYPE=image/jpeg:https://cookinwithkim.com/wp-content/uploads/2024/09/Green-Yellow-Modern-Farming-Presentation-169.jpg
END:VEVENT
BEGIN:VEVENT
DTSTART;TZID=UTC:20241016T090000
DTEND;TZID=UTC:20241016T110000
DTSTAMP:20260425T041630
CREATED:20240912T134643Z
LAST-MODIFIED:20240912T134922Z
UID:12724-1729069200-1729076400@cookinwithkim.com
SUMMARY:Homeschool Adventures in the Kitchen and Classroom - Halloween
DESCRIPTION:REGISTER HERE\nK-2nd \nChef Kim will once again be working with Annette\, an amazing retired elementary teacher for FUN themed classes for your young homeschool students this school year!  \nThe kids will enjoy a fun themed learning experience creating things both in and out of the kitchen!  They will spend part of the time with Annette reading stories\, doing experiments\, crafting\, fun learning and part of the time in the kitchen with Chef Kim creating fun recipes! \n  \nSeptember 4th        9-11:00am     BACK to SCHOOL \nSeptember 18th      9-11:00am     SUN and MOON \nOctober 2nd            9-11:00am     APPLES \nOctober 16th.          9-11:00am     HALLOWEEN \nNovember 6th        9-11:00am     OWLS \nNovember 20th     9-11:00am     THANKSGIVING \nDecember 4th        9-11:00am     TRAINS \nDecember 18th      9-11:00am     CELEBRATIONS AROUND the WORLD \n  \nClass size: Minimum 4 Maximum 16 junior chefs \nAprons are provided for class as well as recipes for each registrant to take home with creations \nPRIVATE EVENTS for ADULTS and YOUTH AVAILABLE Contact Chef Kim.
URL:https://cookinwithkim.com/event/homeschool-adventures-in-the-kitchen-and-classroom-hallloween/
LOCATION:Cookin’ With Kim\, 15818 Mueschke Rd.\, Cypress\, TX\, 77433\, United States
CATEGORIES:Homeschool Adventures
ATTACH;FMTTYPE=image/jpeg:https://cookinwithkim.com/wp-content/uploads/2024/08/3.jpg
END:VEVENT
END:VCALENDAR