BEGIN:VCALENDAR
VERSION:2.0
PRODID:-//Cookin’ with Kim - ECPv6.15.20//NONSGML v1.0//EN
CALSCALE:GREGORIAN
METHOD:PUBLISH
X-WR-CALNAME:Cookin’ with Kim
X-ORIGINAL-URL:https://cookinwithkim.com
X-WR-CALDESC:Events for Cookin’ with Kim
REFRESH-INTERVAL;VALUE=DURATION:PT1H
X-Robots-Tag:noindex
X-PUBLISHED-TTL:PT1H
BEGIN:VTIMEZONE
TZID:UTC
BEGIN:STANDARD
TZOFFSETFROM:+0000
TZOFFSETTO:+0000
TZNAME:UTC
DTSTART:20250101T000000
END:STANDARD
END:VTIMEZONE
BEGIN:VEVENT
DTSTART;TZID=UTC:20260601T090000
DTEND;TZID=UTC:20260601T110000
DTSTAMP:20260424T154342
CREATED:20260405T042417Z
LAST-MODIFIED:20260405T211847Z
UID:15786-1780304400-1780311600@cookinwithkim.com
SUMMARY:Magical Creatures-Fairies
DESCRIPTION:FAIRIES \n9:00-11:00am
URL:https://cookinwithkim.com/event/magical-creatures/
CATEGORIES:K-2
END:VEVENT
BEGIN:VEVENT
DTSTART;TZID=UTC:20260602T090000
DTEND;TZID=UTC:20260602T110000
DTSTAMP:20260424T154342
CREATED:20260405T212521Z
LAST-MODIFIED:20260405T212521Z
UID:15793-1780390800-1780398000@cookinwithkim.com
SUMMARY:Magical Creatures-Unicorns
DESCRIPTION:UNICORNS\n9-11am
URL:https://cookinwithkim.com/event/magical-creatures-unicorns/
CATEGORIES:K-2
END:VEVENT
BEGIN:VEVENT
DTSTART;TZID=UTC:20260603T090000
DTEND;TZID=UTC:20260603T110000
DTSTAMP:20260424T154342
CREATED:20260405T213030Z
LAST-MODIFIED:20260405T213030Z
UID:15800-1780477200-1780484400@cookinwithkim.com
SUMMARY:Magical Creatures-Mermaids
DESCRIPTION:MERMAIDS\n9-11am
URL:https://cookinwithkim.com/event/magical-creatures-mermaids-2/
CATEGORIES:K-2
END:VEVENT
BEGIN:VEVENT
DTSTART;TZID=UTC:20260604T090000
DTEND;TZID=UTC:20260604T110000
DTSTAMP:20260424T154342
CREATED:20260405T212821Z
LAST-MODIFIED:20260405T212821Z
UID:15797-1780563600-1780570800@cookinwithkim.com
SUMMARY:Magical Creatures-Dragons
DESCRIPTION:DRAGONS \n9-11am
URL:https://cookinwithkim.com/event/magical-creatures-dragons/
CATEGORIES:K-2
END:VEVENT
BEGIN:VEVENT
DTSTART;TZID=UTC:20260608T100000
DTEND;TZID=UTC:20260608T120000
DTSTAMP:20260424T154342
CREATED:20260405T213736Z
LAST-MODIFIED:20260405T213736Z
UID:15806-1780912800-1780920000@cookinwithkim.com
SUMMARY:Breakfast on your Own
DESCRIPTION:
URL:https://cookinwithkim.com/event/breakfast-on-your-own/
CATEGORIES:K-2
END:VEVENT
BEGIN:VEVENT
DTSTART;TZID=UTC:20260609T100000
DTEND;TZID=UTC:20260609T123000
DTSTAMP:20260424T154342
CREATED:20260405T213837Z
LAST-MODIFIED:20260405T213837Z
UID:15808-1780999200-1781008200@cookinwithkim.com
SUMMARY:Breakfast Favorites
DESCRIPTION:
URL:https://cookinwithkim.com/event/breakfast-favorites/
CATEGORIES:3rd-5th
END:VEVENT
BEGIN:VEVENT
DTSTART;TZID=UTC:20260612T100000
DTEND;TZID=UTC:20260612T123000
DTSTAMP:20260424T154342
CREATED:20260405T214919Z
LAST-MODIFIED:20260405T214919Z
UID:15813-1781258400-1781267400@cookinwithkim.com
SUMMARY:Toy Story Meal
DESCRIPTION:
URL:https://cookinwithkim.com/event/toy-story-meal/
CATEGORIES:3rd-5th
END:VEVENT
BEGIN:VEVENT
DTSTART;TZID=UTC:20260618T160000
DTEND;TZID=UTC:20260618T183000
DTSTAMP:20260424T154342
CREATED:20260405T215028Z
LAST-MODIFIED:20260405T215028Z
UID:15815-1781798400-1781807400@cookinwithkim.com
SUMMARY:Kids Favorites-Dinner for 4
DESCRIPTION:
URL:https://cookinwithkim.com/event/kids-favorites-dinner-for-4/
CATEGORIES:3rd-5th
END:VEVENT
BEGIN:VEVENT
DTSTART;TZID=UTC:20260622T100000
DTEND;TZID=UTC:20260622T123000
DTSTAMP:20260424T154342
CREATED:20260405T215353Z
LAST-MODIFIED:20260405T220115Z
UID:15819-1782122400-1782131400@cookinwithkim.com
SUMMARY:Jr Around the World-Italy
DESCRIPTION:Attend 1 or all 4
URL:https://cookinwithkim.com/event/around-the-world-italy/
CATEGORIES:3rd-5th
END:VEVENT
BEGIN:VEVENT
DTSTART;TZID=UTC:20260623T100000
DTEND;TZID=UTC:20260623T123000
DTSTAMP:20260424T154342
CREATED:20260405T215505Z
LAST-MODIFIED:20260405T220138Z
UID:15821-1782208800-1782217800@cookinwithkim.com
SUMMARY:Jr Around the World-Mexico
DESCRIPTION:Attend 1 or 4
URL:https://cookinwithkim.com/event/around-the-world-mexico/
CATEGORIES:3rd-5th
END:VEVENT
BEGIN:VEVENT
DTSTART;TZID=UTC:20260624T100000
DTEND;TZID=UTC:20260624T123000
DTSTAMP:20260424T154342
CREATED:20260405T215639Z
LAST-MODIFIED:20260405T220214Z
UID:15823-1782295200-1782304200@cookinwithkim.com
SUMMARY:Jr Around the World-Asia
DESCRIPTION:Attend 1 or 4
URL:https://cookinwithkim.com/event/around-the-world-asia/
CATEGORIES:3rd-5th
END:VEVENT
BEGIN:VEVENT
DTSTART;TZID=UTC:20260625T100000
DTEND;TZID=UTC:20260625T123000
DTSTAMP:20260424T154342
CREATED:20260405T215737Z
LAST-MODIFIED:20260405T220225Z
UID:15825-1782381600-1782390600@cookinwithkim.com
SUMMARY:Jr Around the World-Greece
DESCRIPTION:Attend 1 or all 4
URL:https://cookinwithkim.com/event/around-the-world-greece/
CATEGORIES:3rd-5th
END:VEVENT
BEGIN:VEVENT
DTSTART;TZID=UTC:20260630T150000
DTEND;TZID=UTC:20260630T173000
DTSTAMP:20260424T154342
CREATED:20260405T221023Z
LAST-MODIFIED:20260405T221023Z
UID:15844-1782831600-1782840600@cookinwithkim.com
SUMMARY:Stars and Stripes Dinner for 4
DESCRIPTION:
URL:https://cookinwithkim.com/event/stars-and-stripes-dinner-for-4/
CATEGORIES:K-2
END:VEVENT
BEGIN:VEVENT
DTSTART;TZID=UTC:20260701T150000
DTEND;TZID=UTC:20260701T180000
DTSTAMP:20260424T154342
CREATED:20260406T020058Z
LAST-MODIFIED:20260406T020120Z
UID:15851-1782918000-1782928800@cookinwithkim.com
SUMMARY:All American Classics Take Home For 4
DESCRIPTION:
URL:https://cookinwithkim.com/event/all-american-classics/
CATEGORIES:3rd-5th
END:VEVENT
BEGIN:VEVENT
DTSTART;TZID=UTC:20260707T153000
DTEND;TZID=UTC:20260707T180000
DTSTAMP:20260424T154342
CREATED:20260406T020552Z
LAST-MODIFIED:20260406T020552Z
UID:15856-1783438200-1783447200@cookinwithkim.com
SUMMARY:Minion Take Home Meal for 4
DESCRIPTION:
URL:https://cookinwithkim.com/event/minion-take-home-meal-for-4/
CATEGORIES:3rd-5th
END:VEVENT
BEGIN:VEVENT
DTSTART;TZID=UTC:20260709T100000
DTEND;TZID=UTC:20260709T123000
DTSTAMP:20260424T154342
CREATED:20260406T020709Z
LAST-MODIFIED:20260406T020709Z
UID:15858-1783591200-1783600200@cookinwithkim.com
SUMMARY:Snacks-Gaming Edition
DESCRIPTION:
URL:https://cookinwithkim.com/event/snacks-gaming-edition/
CATEGORIES:K-2
END:VEVENT
BEGIN:VEVENT
DTSTART;TZID=UTC:20260713T100000
DTEND;TZID=UTC:20260713T120000
DTSTAMP:20260424T154342
CREATED:20260406T021158Z
LAST-MODIFIED:20260406T022743Z
UID:15862-1783936800-1783944000@cookinwithkim.com
SUMMARY:Wheels\, Waves\, Wonders and Beyond
DESCRIPTION:Trains\, Planes and Automobiles \nAttend 1 of the series or all 4
URL:https://cookinwithkim.com/event/wheels-waves-wonders-and-beyond/
CATEGORIES:K-2
END:VEVENT
BEGIN:VEVENT
DTSTART;TZID=UTC:20260713T143000
DTEND;TZID=UTC:20260713T170000
DTSTAMP:20260424T154342
CREATED:20260406T023224Z
LAST-MODIFIED:20260406T023224Z
UID:15873-1783953000-1783962000@cookinwithkim.com
SUMMARY:Toy Story Meal for 4
DESCRIPTION:
URL:https://cookinwithkim.com/event/toy-story-meal-for-4/
CATEGORIES:3rd-5th
END:VEVENT
BEGIN:VEVENT
DTSTART;TZID=UTC:20260714T100000
DTEND;TZID=UTC:20260714T120000
DTSTAMP:20260424T154342
CREATED:20260406T022106Z
LAST-MODIFIED:20260406T022639Z
UID:15864-1784023200-1784030400@cookinwithkim.com
SUMMARY:Wheels\, Waves\, Wonders and Beyond
DESCRIPTION:Waves\, Sand and Shells \nAttend 1 of the series or all 4
URL:https://cookinwithkim.com/event/wheels-waves-wonders-and-beyond-2/
CATEGORIES:K-2
END:VEVENT
BEGIN:VEVENT
DTSTART;TZID=UTC:20260715T100000
DTEND;TZID=UTC:20260715T120000
DTSTAMP:20260424T154342
CREATED:20260406T022336Z
LAST-MODIFIED:20260406T022601Z
UID:15866-1784109600-1784116800@cookinwithkim.com
SUMMARY:Wheels\, Waves\, Wonders and Beyond
DESCRIPTION:Safari\, Plants and Animals \nAttend 1 of the series or all 4
URL:https://cookinwithkim.com/event/wheels-waves-wonders-and-beyond-3/
CATEGORIES:K-2
END:VEVENT
BEGIN:VEVENT
DTSTART;TZID=UTC:20260716T100000
DTEND;TZID=UTC:20260716T120000
DTSTAMP:20260424T154342
CREATED:20260406T022521Z
LAST-MODIFIED:20260406T022521Z
UID:15868-1784196000-1784203200@cookinwithkim.com
SUMMARY:Wheels\, Waves\, Wonders and Beyond
DESCRIPTION:Minions\, Toy Story\, Zootopia \nAttend 1 of the series or all 4
URL:https://cookinwithkim.com/event/wheels-waves-wonders-and-beyond-4/
CATEGORIES:K-2
END:VEVENT
BEGIN:VEVENT
DTSTART;TZID=UTC:20260720T160000
DTEND;TZID=UTC:20260720T183000
DTSTAMP:20260424T154342
CREATED:20260406T023654Z
LAST-MODIFIED:20260406T023654Z
UID:15877-1784563200-1784572200@cookinwithkim.com
SUMMARY:Bibbidi-Bobbidi-Boo-Baking
DESCRIPTION:
URL:https://cookinwithkim.com/event/bibbidi-bobbidi-boo-baking/
CATEGORIES:3rd-5th
END:VEVENT
BEGIN:VEVENT
DTSTART;TZID=UTC:20260721T160000
DTEND;TZID=UTC:20260721T183000
DTSTAMP:20260424T154342
CREATED:20260406T023754Z
LAST-MODIFIED:20260406T023754Z
UID:15879-1784649600-1784658600@cookinwithkim.com
SUMMARY:Bibbidi-Bobbidi-Boo-Baking
DESCRIPTION:Attend 1 or all 4
URL:https://cookinwithkim.com/event/bibbidi-bobbidi-boo-baking-2/
CATEGORIES:3rd-5th
END:VEVENT
BEGIN:VEVENT
DTSTART;TZID=UTC:20260722T100000
DTEND;TZID=UTC:20260722T120000
DTSTAMP:20260424T154342
CREATED:20260406T024210Z
LAST-MODIFIED:20260406T024210Z
UID:15887-1784714400-1784721600@cookinwithkim.com
SUMMARY:Disney Fun
DESCRIPTION:
URL:https://cookinwithkim.com/event/disney-fun/
CATEGORIES:K-2
END:VEVENT
BEGIN:VEVENT
DTSTART;TZID=UTC:20260722T160000
DTEND;TZID=UTC:20260722T183000
DTSTAMP:20260424T154342
CREATED:20260406T023849Z
LAST-MODIFIED:20260406T023849Z
UID:15881-1784736000-1784745000@cookinwithkim.com
SUMMARY:Bibbidi-Bobbidi-Boo-Baking
DESCRIPTION:Attend 1 or all 4
URL:https://cookinwithkim.com/event/bibbidi-bobbidi-boo-baking-3/
CATEGORIES:3rd-5th
END:VEVENT
BEGIN:VEVENT
DTSTART;TZID=UTC:20260723T160000
DTEND;TZID=UTC:20260723T183000
DTSTAMP:20260424T154342
CREATED:20260406T023947Z
LAST-MODIFIED:20260406T023947Z
UID:15883-1784822400-1784831400@cookinwithkim.com
SUMMARY:Bibbidi-Bobbidi-Boo-Baking
DESCRIPTION:Attend 1 or all 4
URL:https://cookinwithkim.com/event/bibbidi-bobbidi-boo-baking-4/
CATEGORIES:3rd-5th
END:VEVENT
BEGIN:VEVENT
DTSTART;TZID=UTC:20260728T100000
DTEND;TZID=UTC:20260728T123000
DTSTAMP:20260424T154342
CREATED:20260406T025410Z
LAST-MODIFIED:20260406T025410Z
UID:15900-1785232800-1785241800@cookinwithkim.com
SUMMARY:Build Your Own Taco Tuesday
DESCRIPTION:
URL:https://cookinwithkim.com/event/build-your-own-taco-tuesday/
CATEGORIES:3rd-5th
END:VEVENT
BEGIN:VEVENT
DTSTART;TZID=UTC:20260730T100000
DTEND;TZID=UTC:20260730T120000
DTSTAMP:20260424T154342
CREATED:20260406T025505Z
LAST-MODIFIED:20260406T025505Z
UID:15902-1785405600-1785412800@cookinwithkim.com
SUMMARY:Jr Cupcake Wars
DESCRIPTION:
URL:https://cookinwithkim.com/event/jr-cupcake-wars/
CATEGORIES:3rd-5th
END:VEVENT
BEGIN:VEVENT
DTSTART;TZID=UTC:20260731T100000
DTEND;TZID=UTC:20260731T113000
DTSTAMP:20260424T154342
CREATED:20260406T025626Z
LAST-MODIFIED:20260406T025626Z
UID:15904-1785492000-1785497400@cookinwithkim.com
SUMMARY:Creative Cupcakes
DESCRIPTION:
URL:https://cookinwithkim.com/event/creative-cupcakes/
CATEGORIES:K-2
END:VEVENT
END:VCALENDAR