BEGIN:VCALENDAR
VERSION:2.0
PRODID:-//Cookin’ with Kim - ECPv6.15.20//NONSGML v1.0//EN
CALSCALE:GREGORIAN
METHOD:PUBLISH
X-ORIGINAL-URL:https://cookinwithkim.com
X-WR-CALDESC:Events for Cookin’ with Kim
REFRESH-INTERVAL;VALUE=DURATION:PT1H
X-Robots-Tag:noindex
X-PUBLISHED-TTL:PT1H
BEGIN:VTIMEZONE
TZID:UTC
BEGIN:STANDARD
TZOFFSETFROM:+0000
TZOFFSETTO:+0000
TZNAME:UTC
DTSTART:20250101T000000
END:STANDARD
END:VTIMEZONE
BEGIN:VEVENT
DTSTART;TZID=UTC:20260731T100000
DTEND;TZID=UTC:20260731T113000
DTSTAMP:20260424T232611
CREATED:20260406T025626Z
LAST-MODIFIED:20260406T025626Z
UID:15904-1785492000-1785497400@cookinwithkim.com
SUMMARY:Creative Cupcakes
DESCRIPTION:
URL:https://cookinwithkim.com/event/creative-cupcakes/
CATEGORIES:K-2
END:VEVENT
END:VCALENDAR