BEGIN:VCALENDAR
VERSION:2.0
PRODID:-//Cookin’ with Kim - ECPv6.15.20//NONSGML v1.0//EN
CALSCALE:GREGORIAN
METHOD:PUBLISH
X-ORIGINAL-URL:https://cookinwithkim.com
X-WR-CALDESC:Events for Cookin’ with Kim
REFRESH-INTERVAL;VALUE=DURATION:PT1H
X-Robots-Tag:noindex
X-PUBLISHED-TTL:PT1H
BEGIN:VTIMEZONE
TZID:UTC
BEGIN:STANDARD
TZOFFSETFROM:+0000
TZOFFSETTO:+0000
TZNAME:UTC
DTSTART:20250101T000000
END:STANDARD
END:VTIMEZONE
BEGIN:VEVENT
DTSTART;TZID=UTC:20260723T160000
DTEND;TZID=UTC:20260723T183000
DTSTAMP:20260424T191253
CREATED:20260406T023947Z
LAST-MODIFIED:20260406T023947Z
UID:15883-1784822400-1784831400@cookinwithkim.com
SUMMARY:Bibbidi-Bobbidi-Boo-Baking
DESCRIPTION:Attend 1 or all 4
URL:https://cookinwithkim.com/event/bibbidi-bobbidi-boo-baking-4/
CATEGORIES:3rd-5th
END:VEVENT
END:VCALENDAR