BEGIN:VCALENDAR
VERSION:2.0
PRODID:-//Cookin’ with Kim - ECPv6.15.20//NONSGML v1.0//EN
CALSCALE:GREGORIAN
METHOD:PUBLISH
X-WR-CALNAME:Cookin’ with Kim
X-ORIGINAL-URL:https://cookinwithkim.com
X-WR-CALDESC:Events for Cookin’ with Kim
REFRESH-INTERVAL;VALUE=DURATION:PT1H
X-Robots-Tag:noindex
X-PUBLISHED-TTL:PT1H
BEGIN:VTIMEZONE
TZID:UTC
BEGIN:STANDARD
TZOFFSETFROM:+0000
TZOFFSETTO:+0000
TZNAME:UTC
DTSTART:20250101T000000
END:STANDARD
END:VTIMEZONE
BEGIN:VEVENT
DTSTART;TZID=UTC:20260722T100000
DTEND;TZID=UTC:20260722T120000
DTSTAMP:20260425T034934
CREATED:20260406T024210Z
LAST-MODIFIED:20260406T024210Z
UID:15887-1784714400-1784721600@cookinwithkim.com
SUMMARY:Disney Fun
DESCRIPTION:
URL:https://cookinwithkim.com/event/disney-fun/
CATEGORIES:K-2
END:VEVENT
BEGIN:VEVENT
DTSTART;TZID=UTC:20260722T160000
DTEND;TZID=UTC:20260722T183000
DTSTAMP:20260425T034934
CREATED:20260406T023849Z
LAST-MODIFIED:20260406T023849Z
UID:15881-1784736000-1784745000@cookinwithkim.com
SUMMARY:Bibbidi-Bobbidi-Boo-Baking
DESCRIPTION:Attend 1 or all 4
URL:https://cookinwithkim.com/event/bibbidi-bobbidi-boo-baking-3/
CATEGORIES:3rd-5th
END:VEVENT
END:VCALENDAR