BEGIN:VCALENDAR
VERSION:2.0
PRODID:-//Cookin’ with Kim - ECPv6.15.20//NONSGML v1.0//EN
CALSCALE:GREGORIAN
METHOD:PUBLISH
X-WR-CALNAME:Cookin’ with Kim
X-ORIGINAL-URL:https://cookinwithkim.com
X-WR-CALDESC:Events for Cookin’ with Kim
REFRESH-INTERVAL;VALUE=DURATION:PT1H
X-Robots-Tag:noindex
X-PUBLISHED-TTL:PT1H
BEGIN:VTIMEZONE
TZID:UTC
BEGIN:STANDARD
TZOFFSETFROM:+0000
TZOFFSETTO:+0000
TZNAME:UTC
DTSTART:20250101T000000
END:STANDARD
END:VTIMEZONE
BEGIN:VEVENT
DTSTART;TZID=UTC:20260417T100000
DTEND;TZID=UTC:20260417T110000
DTSTAMP:20260425T012523
CREATED:20240903T161642Z
LAST-MODIFIED:20260406T030921Z
UID:12556-1776420000-1776423600@cookinwithkim.com
SUMMARY:Ivy Point Kingwood 55+ Demo and Meal Delivery
DESCRIPTION:Chef Kim will be cookin’ up a demo of one of her seasonal recipes! She’ll be handing out samples\, with a recipe card. Freezer Meal Pre orders delivery
URL:https://cookinwithkim.com/event/55-community-demo-ivy-point-kingwood/
LOCATION:Ivy Point Kingwood\, 2302 Ladbrook Drive\, Kingwood\, 77339\, United States
CATEGORIES:55+ Community Demos,Ivy Point Kingwood
ATTACH;FMTTYPE=image/jpeg:https://cookinwithkim.com/wp-content/uploads/2024/09/Green-Yellow-Modern-Farming-Presentation-169.jpg
END:VEVENT
END:VCALENDAR